BEGIN:VCALENDAR
VERSION:2.0
PRODID:-//Centre for Skills - ECPv6.15.15//NONSGML v1.0//EN
CALSCALE:GREGORIAN
METHOD:PUBLISH
X-WR-CALNAME:Centre for Skills
X-ORIGINAL-URL:https://centreforskills.ca
X-WR-CALDESC:Events for Centre for Skills
REFRESH-INTERVAL;VALUE=DURATION:PT1H
X-Robots-Tag:noindex
X-PUBLISHED-TTL:PT1H
BEGIN:VTIMEZONE
TZID:America/Toronto
BEGIN:DAYLIGHT
TZOFFSETFROM:-0500
TZOFFSETTO:-0400
TZNAME:EDT
DTSTART:20250309T070000
END:DAYLIGHT
BEGIN:STANDARD
TZOFFSETFROM:-0400
TZOFFSETTO:-0500
TZNAME:EST
DTSTART:20251102T060000
END:STANDARD
BEGIN:DAYLIGHT
TZOFFSETFROM:-0500
TZOFFSETTO:-0400
TZNAME:EDT
DTSTART:20260308T070000
END:DAYLIGHT
BEGIN:STANDARD
TZOFFSETFROM:-0400
TZOFFSETTO:-0500
TZNAME:EST
DTSTART:20261101T060000
END:STANDARD
BEGIN:DAYLIGHT
TZOFFSETFROM:-0500
TZOFFSETTO:-0400
TZNAME:EDT
DTSTART:20270314T070000
END:DAYLIGHT
BEGIN:STANDARD
TZOFFSETFROM:-0400
TZOFFSETTO:-0500
TZNAME:EST
DTSTART:20271107T060000
END:STANDARD
END:VTIMEZONE
BEGIN:VEVENT
DTSTART;TZID=America/Toronto:20260304T140000
DTEND;TZID=America/Toronto:20260304T150000
DTSTAMP:20260420T191738
CREATED:20260119T170129Z
LAST-MODIFIED:20260119T170129Z
UID:5648-1772632800-1772636400@centreforskills.ca
SUMMARY:Hidden Job Market
DESCRIPTION:Learn networking strategies to access unadvertised job opportunities. \n  \nWe will be using Zoom to deliver this workshop. \n  \nREGISTER HERE
URL:https://centreforskills.ca/workshops-and-event/hidden-job-market-3/
END:VEVENT
BEGIN:VEVENT
DTSTART;TZID=America/Toronto:20260305T100000
DTEND;TZID=America/Toronto:20260305T110000
DTSTAMP:20260420T191738
CREATED:20260119T170454Z
LAST-MODIFIED:20260119T170454Z
UID:5650-1772704800-1772708400@centreforskills.ca
SUMMARY:Canadian Workplace Culture Do's and Don'ts
DESCRIPTION:Geared towards newcomers to Canada\, this workshop will look at the culture of the Canadian workplace-what experiences and practices you may encounter in a typical workplace and how to successfully navigate them. \n  \nWe will be using Zoom to deliver this workshop. \n  \nREGISTER HERE
URL:https://centreforskills.ca/workshops-and-event/canadian-workplace-culture-dos-and-donts-2/
END:VEVENT
BEGIN:VEVENT
DTSTART;TZID=America/Toronto:20260305T110000
DTEND;TZID=America/Toronto:20260305T120000
DTSTAMP:20260420T191738
CREATED:20260119T170802Z
LAST-MODIFIED:20260119T170802Z
UID:5652-1772708400-1772712000@centreforskills.ca
SUMMARY:Boosting Your Confidence
DESCRIPTION:This workshop helps clients strengthen their self-confidence by exploring practical strategies to overcome self-doubt\, build a positive mindset\, and feel more empowered during their job search and daily life. \n  \nWe will be using Zoom to deliver this workshop. \n  \nREGISTER HERE
URL:https://centreforskills.ca/workshops-and-event/boosting-your-confidence-4/
END:VEVENT
BEGIN:VEVENT
DTSTART;TZID=America/Toronto:20260305T130000
DTEND;TZID=America/Toronto:20260305T140000
DTSTAMP:20260420T191738
CREATED:20260119T171003Z
LAST-MODIFIED:20260119T171003Z
UID:5654-1772715600-1772719200@centreforskills.ca
SUMMARY:Job Retention
DESCRIPTION:Learn more about what employers want and the keys to keeping a job long term. \n  \nWe will be using Zoom to deliver this workshop. \n  \nREGISTER HERE
URL:https://centreforskills.ca/workshops-and-event/job-retention-3/
END:VEVENT
BEGIN:VEVENT
DTSTART;TZID=America/Toronto:20260310T110000
DTEND;TZID=America/Toronto:20260310T120000
DTSTAMP:20260420T191738
CREATED:20260119T171621Z
LAST-MODIFIED:20260119T171621Z
UID:5656-1773140400-1773144000@centreforskills.ca
SUMMARY:Technological Safety Basics
DESCRIPTION:Learn essential digital safety practices\, including data protection and safe technology use. \n  \nWe will be using Zoom to deliver this workshop. \n  \nREGISTER HERE
URL:https://centreforskills.ca/workshops-and-event/technological-safety-basics-2/
END:VEVENT
BEGIN:VEVENT
DTSTART;TZID=America/Toronto:20260310T150000
DTEND;TZID=America/Toronto:20260310T160000
DTSTAMP:20260420T191738
CREATED:20260119T171829Z
LAST-MODIFIED:20260119T171829Z
UID:5658-1773154800-1773158400@centreforskills.ca
SUMMARY:How to Succeed in a Job Fair
DESCRIPTION:Prepare for job fairs with employer research\, elevator pitches and follow-up strategies. \n  \nWe will be using Zoom to deliver this workshop. \n  \nREGISTER HERE
URL:https://centreforskills.ca/workshops-and-event/how-to-succeed-in-a-job-fair-2/
END:VEVENT
BEGIN:VEVENT
DTSTART;TZID=America/Toronto:20260311T110000
DTEND;TZID=America/Toronto:20260311T120000
DTSTAMP:20260420T191738
CREATED:20260119T172120Z
LAST-MODIFIED:20260119T172120Z
UID:5660-1773226800-1773230400@centreforskills.ca
SUMMARY:Excel Intermediate
DESCRIPTION:Build on Excel fundamentals with advanced formulas\, data organization\, and productivity tips. \n  \nWe will be using Zoom to deliver this workshop. \n  \nREGISTER HERE
URL:https://centreforskills.ca/workshops-and-event/excel-intermediate/
END:VEVENT
BEGIN:VEVENT
DTSTART;TZID=America/Toronto:20260312T140000
DTEND;TZID=America/Toronto:20260312T150000
DTSTAMP:20260420T191738
CREATED:20260119T172438Z
LAST-MODIFIED:20260119T172438Z
UID:5662-1773324000-1773327600@centreforskills.ca
SUMMARY:Interviews that Impress
DESCRIPTION:Advanced interview strategies to confidently handle different interview formats. \n  \nWe will be using Zoom to deliver this workshop. \n  \nREGISTER HERE
URL:https://centreforskills.ca/workshops-and-event/interviews-that-impress-4/
END:VEVENT
BEGIN:VEVENT
DTSTART;TZID=America/Toronto:20260317T100000
DTEND;TZID=America/Toronto:20260317T110000
DTSTAMP:20260420T191738
CREATED:20260119T172702Z
LAST-MODIFIED:20260119T172702Z
UID:5664-1773741600-1773745200@centreforskills.ca
SUMMARY:Optimizing Your LinkedIn Profile
DESCRIPTION:This workshop helps participants build a polished and professional LinkedIn profile that increases visibility to employers and recruiters. Clients will learn how to highlight their skills and experience\, create engaging headlines and summaries\, use industry keywords\, and present their accomplishments effectively. By the end of the session\, participants will have a stronger online presence that supports networking\, job searching\, and career advancement. \n  \nWe will be using Zoom to deliver this workshop. \n  \nREGISTER HERE
URL:https://centreforskills.ca/workshops-and-event/optimizing-your-linkedin-profile-3/
END:VEVENT
BEGIN:VEVENT
DTSTART;TZID=America/Toronto:20260317T130000
DTEND;TZID=America/Toronto:20260317T140000
DTSTAMP:20260420T191738
CREATED:20260119T173127Z
LAST-MODIFIED:20260119T173127Z
UID:5666-1773752400-1773756000@centreforskills.ca
SUMMARY:Resume Essentials
DESCRIPTION:Learn the fundamentals of resume structure\, content\, and formatting. \n  \nWe will be using Zoom to deliver this workshop. \n  \nREGISTER HERE
URL:https://centreforskills.ca/workshops-and-event/resume-essentials-5/
END:VEVENT
BEGIN:VEVENT
DTSTART;TZID=America/Toronto:20260325T100000
DTEND;TZID=America/Toronto:20260325T110000
DTSTAMP:20260420T191738
CREATED:20260119T173348Z
LAST-MODIFIED:20260119T173348Z
UID:5668-1774432800-1774436400@centreforskills.ca
SUMMARY:Better Jobs Ontario
DESCRIPTION:This information session provides clients with an overview of the Better Jobs Ontario program and how it can support career training and employment goals. Participants will learn about eligibility criteria\, application requirements\, available funding\, and the types of training programs covered. The session helps clients understand their options and determine if Better Jobs Ontario is the right pathway for achieving long-term employment and career success. \n  \nWe will be using Zoom to deliver this workshop. \n  \nREGISTER HERE
URL:https://centreforskills.ca/workshops-and-event/better-jobs-ontario-3/
END:VEVENT
BEGIN:VEVENT
DTSTART;TZID=America/Toronto:20260325T100000
DTEND;TZID=America/Toronto:20260325T110000
DTSTAMP:20260420T191738
CREATED:20260119T173652Z
LAST-MODIFIED:20260119T173652Z
UID:5670-1774432800-1774436400@centreforskills.ca
SUMMARY:Crafting Impactful Resumes
DESCRIPTION:Guides participants in developing clear\, targeted\, and results-focused resumes that effectively highlight their skills and experience. Participants will learn how to tailor resumes to specific roles\, \nuse strong accomplishment statements\, and present themselves confidently to employers. \n  \nWe will be using Zoom to deliver this workshop. \n  \nREGISTER HERE
URL:https://centreforskills.ca/workshops-and-event/crafting-impactful-resumes-3/
END:VEVENT
BEGIN:VEVENT
DTSTART;TZID=America/Toronto:20260326T140000
DTEND;TZID=America/Toronto:20260326T150000
DTSTAMP:20260420T191738
CREATED:20260323T140054Z
LAST-MODIFIED:20260324T155025Z
UID:5801-1774533600-1774537200@centreforskills.ca
SUMMARY:Working for the Government of Canada
DESCRIPTION:Join our information session to learn about the Government of Canada jobs platform and skilled trade job opportunities! We will review how to apply\, as well as some tips & tricks to help you succeed in the assessment process. This session will be in English. \n  \nREGISTER HERE
URL:https://centreforskills.ca/workshops-and-event/are-you-interested-in-working-for-the-government-of-canada/
END:VEVENT
END:VCALENDAR