BEGIN:VCALENDAR
VERSION:2.0
PRODID:-//Centre for Skills - ECPv6.15.15//NONSGML v1.0//EN
CALSCALE:GREGORIAN
METHOD:PUBLISH
X-ORIGINAL-URL:https://centreforskills.ca
X-WR-CALDESC:Events for Centre for Skills
REFRESH-INTERVAL;VALUE=DURATION:PT1H
X-Robots-Tag:noindex
X-PUBLISHED-TTL:PT1H
BEGIN:VTIMEZONE
TZID:America/Toronto
BEGIN:DAYLIGHT
TZOFFSETFROM:-0500
TZOFFSETTO:-0400
TZNAME:EDT
DTSTART:20240310T070000
END:DAYLIGHT
BEGIN:STANDARD
TZOFFSETFROM:-0400
TZOFFSETTO:-0500
TZNAME:EST
DTSTART:20241103T060000
END:STANDARD
BEGIN:DAYLIGHT
TZOFFSETFROM:-0500
TZOFFSETTO:-0400
TZNAME:EDT
DTSTART:20250309T070000
END:DAYLIGHT
BEGIN:STANDARD
TZOFFSETFROM:-0400
TZOFFSETTO:-0500
TZNAME:EST
DTSTART:20251102T060000
END:STANDARD
BEGIN:DAYLIGHT
TZOFFSETFROM:-0500
TZOFFSETTO:-0400
TZNAME:EDT
DTSTART:20260308T070000
END:DAYLIGHT
BEGIN:STANDARD
TZOFFSETFROM:-0400
TZOFFSETTO:-0500
TZNAME:EST
DTSTART:20261101T060000
END:STANDARD
END:VTIMEZONE
BEGIN:VEVENT
DTSTART;TZID=America/Toronto:20250401T100000
DTEND;TZID=America/Toronto:20250401T110000
DTSTAMP:20260421T134422
CREATED:20250325T154237Z
LAST-MODIFIED:20250325T154747Z
UID:2614-1743501600-1743505200@centreforskills.ca
SUMMARY:Intermediate MS Excel
DESCRIPTION:This session is for those who want a deeper understanding of Excel and wish to build on their basic skill set. Join instructor Carmine Ciriello\, owner of the company Analyze and Improve\, for this interactive session. You will learn such skills as: inserting charts\, sorting and filtering data\, viewing/freezing and building on relevant examples for how/why you would be using Excel. Having access to Excel on your computer is useful as this tutorial is meant to be interactive. If English is not your first Language you must be at CLB Level 4/5+ to attend. Registration is limited to 15 participants. \n  \nWe will be using Zoom to deliver this workshop. \n  \nREGISTER HERE
URL:https://centreforskills.ca/workshops-and-event/intermediate-ms-excel-2/
CATEGORIES:Employment Services,Newcomers,Skilled Trades
END:VEVENT
BEGIN:VEVENT
DTSTART;TZID=America/Toronto:20250411T100000
DTEND;TZID=America/Toronto:20250411T110000
DTSTAMP:20260421T134422
CREATED:20250325T154951Z
LAST-MODIFIED:20250325T154951Z
UID:2619-1744365600-1744369200@centreforskills.ca
SUMMARY:Intermediate MS Word
DESCRIPTION:This session is for those who want to increase their skills at using MS Word. Join instructor Carmine Ciriello\, owner of the company Analyze and Improve\, for this interactive session. You will learn such skills as: Inserting page breaks/pictures/tables/headers/footers\, how to review spelling/grammar/comments and track changes. Having access to Word on your computer is useful as this tutorial is meant to be interactive. If English is not your first Language you must be at CLB Level 4/5+ to attend. Registration is limited to 15 participants. \n  \nWe will be using Zoom to deliver this workshop. \n  \nREGISTER HERE \n 
URL:https://centreforskills.ca/workshops-and-event/intermediate-ms-word/
CATEGORIES:Employment Services,Newcomers,Skilled Trades
END:VEVENT
BEGIN:VEVENT
DTSTART;TZID=America/Toronto:20250428T180000
DTEND;TZID=America/Toronto:20250428T193000
DTSTAMP:20260421T134422
CREATED:20250325T163131Z
LAST-MODIFIED:20250325T163131Z
UID:2621-1745863200-1745868600@centreforskills.ca
SUMMARY:Permanent Resident Card Renewal and Application
DESCRIPTION:This free session will provide you an opportunity to understand the application forms and the checklist of documents required to apply for renewal of Permanent Resident card\, will discuss eligibility and how to maintain your immigration status in Canada as Permanent Residents. In addition\, you will learn how to calculate your physical presence in Canada. Eligibility: Permanent Resident\, Convention Refugee. Register in advance for this meeting. After registering\, you will receive a confirmation email containing information about joining the meeting. Register here. \n  \n 
URL:https://centreforskills.ca/workshops-and-event/permanent-resident-card-renewal-and-application/
CATEGORIES:Newcomers
END:VEVENT
END:VCALENDAR