BEGIN:VCALENDAR
VERSION:2.0
PRODID:-//Centre for Skills - ECPv6.15.15//NONSGML v1.0//EN
CALSCALE:GREGORIAN
METHOD:PUBLISH
X-ORIGINAL-URL:https://centreforskills.ca
X-WR-CALDESC:Events for Centre for Skills
REFRESH-INTERVAL;VALUE=DURATION:PT1H
X-Robots-Tag:noindex
X-PUBLISHED-TTL:PT1H
BEGIN:VTIMEZONE
TZID:America/Toronto
BEGIN:DAYLIGHT
TZOFFSETFROM:-0500
TZOFFSETTO:-0400
TZNAME:EDT
DTSTART:20240310T070000
END:DAYLIGHT
BEGIN:STANDARD
TZOFFSETFROM:-0400
TZOFFSETTO:-0500
TZNAME:EST
DTSTART:20241103T060000
END:STANDARD
BEGIN:DAYLIGHT
TZOFFSETFROM:-0500
TZOFFSETTO:-0400
TZNAME:EDT
DTSTART:20250309T070000
END:DAYLIGHT
BEGIN:STANDARD
TZOFFSETFROM:-0400
TZOFFSETTO:-0500
TZNAME:EST
DTSTART:20251102T060000
END:STANDARD
BEGIN:DAYLIGHT
TZOFFSETFROM:-0500
TZOFFSETTO:-0400
TZNAME:EDT
DTSTART:20260308T070000
END:DAYLIGHT
BEGIN:STANDARD
TZOFFSETFROM:-0400
TZOFFSETTO:-0500
TZNAME:EST
DTSTART:20261101T060000
END:STANDARD
BEGIN:DAYLIGHT
TZOFFSETFROM:-0500
TZOFFSETTO:-0400
TZNAME:EDT
DTSTART:20270314T070000
END:DAYLIGHT
BEGIN:STANDARD
TZOFFSETFROM:-0400
TZOFFSETTO:-0500
TZNAME:EST
DTSTART:20271107T060000
END:STANDARD
END:VTIMEZONE
BEGIN:VEVENT
DTSTART;TZID=America/Toronto:20250722T100000
DTEND;TZID=America/Toronto:20250722T110000
DTSTAMP:20260421T114130
CREATED:20250703T130713Z
LAST-MODIFIED:20250703T130713Z
UID:4054-1753178400-1753182000@centreforskills.ca
SUMMARY:Advanced MS Word
DESCRIPTION:This session is for those who already have an intermediate knowledge of Word and are now ready to learn about its advanced functions. Join instructor Carmine Ciriello\, owner of the company Analyze and Improve\, for this interactive session. You will learn such skills as: find/replace\, reference capabilities such as table of contents\, and creating specific documents and memos. The first half of the session will be formal content. The second half will be customized coaching based on questions from the participants. Having access to Word on your computer is useful as this tutorial is meant to be interactive. If English is not your first Language you must be at CLB Level 4/5+ to attend. \n  \nWe will be using Zoom to deliver this workshop. \nREGISTER HERE
URL:https://centreforskills.ca/workshops-and-event/advanced-ms-word-2/
END:VEVENT
BEGIN:VEVENT
DTSTART;TZID=America/Toronto:20250723T100000
DTEND;TZID=America/Toronto:20250723T110000
DTSTAMP:20260421T114130
CREATED:20250703T130907Z
LAST-MODIFIED:20250703T130907Z
UID:4056-1753264800-1753268400@centreforskills.ca
SUMMARY:Better Jobs Ontario Information Session
DESCRIPTION:Better Jobs Ontario is an Ontario government program to help laid-off workers\, low-income and unemployed individuals get back to work. Learn about the program including eligibility requirements and financial information. \n  \nWe will be using Zoom to deliver this information session. \nREGISTER HERE
URL:https://centreforskills.ca/workshops-and-event/better-jobs-ontario-information-session-4/
END:VEVENT
BEGIN:VEVENT
DTSTART;TZID=America/Toronto:20250724T100000
DTEND;TZID=America/Toronto:20250724T110000
DTSTAMP:20260421T114130
CREATED:20250703T131204Z
LAST-MODIFIED:20250703T131204Z
UID:4059-1753351200-1753354800@centreforskills.ca
SUMMARY:Advanced MS Excel
DESCRIPTION:This session is for those who already have an intermediate knowledge of Excel and now want to learn about its advanced capabilities. Join instructor Carmine Ciriello\, owner of the company Analyze and Improve\, for this interactive session. You will learn such skills as: advanced functions and formulas\, conditional formatting\, find/replace\, data validation and what-if analysis. Having access to Excel on your computer is useful as this tutorial is meant to be interactive. If English is not your first Language you must be at CLB Level 4/5+ to attend. \n  \nWe will be using Zoom to deliver this workshop. \nREGISTER HERE
URL:https://centreforskills.ca/workshops-and-event/advanced-ms-excel/
END:VEVENT
BEGIN:VEVENT
DTSTART;TZID=America/Toronto:20250821T103000
DTEND;TZID=America/Toronto:20250821T113000
DTSTAMP:20260421T114130
CREATED:20250703T130509Z
LAST-MODIFIED:20250818T140741Z
UID:4052-1755772200-1755775800@centreforskills.ca
SUMMARY:Resume Essentials
DESCRIPTION:Learn what to do and what not to do\, when writing your resume for today’s job market. Learn how to make your resume stand out with “accomplishment statements” that meet employers’ needs. \n  \nWe will be using Zoom to deliver this workshop. \n  \nREGISTER HERE
URL:https://centreforskills.ca/workshops-and-event/resume-essentials-3/
END:VEVENT
BEGIN:VEVENT
DTSTART;TZID=America/Toronto:20250826T100000
DTEND;TZID=America/Toronto:20250826T110000
DTSTAMP:20260421T114130
CREATED:20250602T115613Z
LAST-MODIFIED:20250818T140905Z
UID:3758-1756202400-1756206000@centreforskills.ca
SUMMARY:Better Jobs Ontario Information Session
DESCRIPTION:Better Jobs Ontario is an Ontario government program to help laid-off workers\, low-income and unemployed individuals get back to work. Learn about the program including eligibility requirements and financial information. \n  \nWe will be using Zoom to deliver this information session. \n  \nREGISTER HERE
URL:https://centreforskills.ca/workshops-and-event/better-jobs-ontario-information-session-3/
END:VEVENT
BEGIN:VEVENT
DTSTART;TZID=America/Toronto:20251103T120000
DTEND;TZID=America/Toronto:20251103T130000
DTSTAMP:20260421T114130
CREATED:20251030T195817Z
LAST-MODIFIED:20251030T195911Z
UID:4963-1762171200-1762174800@centreforskills.ca
SUMMARY:Skilled Trades Exploration for Newcomers Program!
DESCRIPTION:Join the information session and learn about the new Skilled Trades Exploration for Newcomers Program starting in November 2025. \n  \nREGISTER HERE
URL:https://centreforskills.ca/workshops-and-event/skilled-trades-exploration-for-newcomers-program/
CATEGORIES:Newcomers
END:VEVENT
BEGIN:VEVENT
DTSTART;TZID=America/Toronto:20251105T190000
DTEND;TZID=America/Toronto:20251105T200000
DTSTAMP:20260421T114130
CREATED:20251030T200222Z
LAST-MODIFIED:20251030T200222Z
UID:4965-1762369200-1762372800@centreforskills.ca
SUMMARY:Skilled Trades Exploration for Newcomers Program!
DESCRIPTION:Join the information session and learn about the new Skilled Trades Exploration for Newcomers Program starting in November 2025. \n  \nREGSITER HERE
URL:https://centreforskills.ca/workshops-and-event/skilled-trades-exploration-for-newcomers-program-2/
CATEGORIES:Newcomers
END:VEVENT
BEGIN:VEVENT
DTSTART;TZID=America/Toronto:20251106T100000
DTEND;TZID=America/Toronto:20251106T110000
DTSTAMP:20260421T114130
CREATED:20251002T152835Z
LAST-MODIFIED:20251002T171241Z
UID:4652-1762423200-1762426800@centreforskills.ca
SUMMARY:Resume Essentials
DESCRIPTION:Learn what to do and what not to do\, when writing your resume for today’s job market. Learn how to make your resume stand out with “accomplishment statements” that meet employers’ needs. \n  \nWe will be using Zoom to deliver this workshop. \n  \nREGISTER HERE
URL:https://centreforskills.ca/workshops-and-event/resume-essentials-4/
END:VEVENT
BEGIN:VEVENT
DTSTART;TZID=America/Toronto:20251107T120000
DTEND;TZID=America/Toronto:20251107T130000
DTSTAMP:20260421T114130
CREATED:20251030T200335Z
LAST-MODIFIED:20251030T200335Z
UID:4967-1762516800-1762520400@centreforskills.ca
SUMMARY:Skilled Trades Exploration for Newcomers Program
DESCRIPTION:Join the information session and learn about the new Skilled Trades Exploration for Newcomers Program starting in November 2025. \n  \nREGISTER HERE
URL:https://centreforskills.ca/workshops-and-event/skilled-trades-exploration-for-newcomers-program-3/
END:VEVENT
BEGIN:VEVENT
DTSTART;TZID=America/Toronto:20251114T100000
DTEND;TZID=America/Toronto:20251114T140000
DTSTAMP:20260421T114130
CREATED:20251024T135125Z
LAST-MODIFIED:20251024T135233Z
UID:4790-1763114400-1763128800@centreforskills.ca
SUMMARY:Project Management Fundamentals
DESCRIPTION:Master the Fundamentals of Project ManagementJoin this free 4-hour in-person introductory seminar led by PMI® Authorized Instructor Salahuddin Kazi of Watershed Management Consulting. Learn the key principles of the PMBOK® Guide (7th Edition)\, explore essential project management tools\, and gain the foundational knowledge to start your PMP® certification journey. \nWhy Attend? \n\nLearn PMBOK® Guide 7 principles\nUnderstand PMP® certification & eligibility\nBuild skills in scope\, schedule\, cost & risk management\nExplore tools like Gantt charts\, WBS\, stakeholder maps\nGain confidence to start your PMP® journey\n\nTopics Covered: \n\nIntroduction to PMP®\nCertification- Eligibility\, Fees & Exam Structure\nPMBOK® Guide 7: Principles & Performance Domains\nProject Lifecycle\nScope\, Schedule & Cost Basics\nRisk Management & Stakeholder Communication\nHands-on Case Study & Exercise\n\nInstructor:\nSalahuddin Kazi – Founder & Director\, WatershedPM \nWorkshop is delivered  in person in Milton \nNovember 14\, 2025 from 10 AM to 2 PM \n550 Ontario Street South\, Suite 208\, Milton\, ON L9T 5E4 \ne-Certificate of Completion Provided \n  \nREGISTER HERE
URL:https://centreforskills.ca/workshops-and-event/project-management-fundamentals/
LOCATION:Milton\, 550 Ontario Street South\, Suite 208\, Milton\, Ontario\, L9T 5E4\, Canada
END:VEVENT
BEGIN:VEVENT
DTSTART;TZID=America/Toronto:20251121T100000
DTEND;TZID=America/Toronto:20251121T140000
DTSTAMP:20260421T114130
CREATED:20251024T135602Z
LAST-MODIFIED:20251024T135824Z
UID:4794-1763719200-1763733600@centreforskills.ca
SUMMARY:Project Management Fundamentals
DESCRIPTION:Master the Fundamentals of Project ManagementJoin this free 4-hour in-person introductory seminar led by PMI® Authorized Instructor Salahuddin Kazi of Watershed Management Consulting. Learn the key principles of the PMBOK® Guide (7th Edition)\, explore essential project management tools\, and gain the foundational knowledge to start your PMP® certification journey. \nWhy Attend? \n\nLearn PMBOK® Guide 7 principles\nUnderstand PMP® certification & eligibility\nBuild skills in scope\, schedule\, cost & risk management\nExplore tools like Gantt charts\, WBS\, stakeholder maps\nGain confidence to start your PMP® journey\n\nTopics Covered: \n\nIntroduction to PMP®\nCertification- Eligibility\, Fees & Exam Structure\nPMBOK® Guide 7: Principles & Performance Domains\nProject Lifecycle\nScope\, Schedule & Cost Basics\nRisk Management & Stakeholder Communication\nHands-on Case Study & Exercise\n\nInstructor:\nSalahuddin Kazi – Founder & Director\, WatershedPM \nWorkshop is delivered  in person in Burlington \nNovember 21\, 2025 from 10 AM to 2 PM \nCentre for Skills Development\, 3350 South Service Rd\, Burlington\, ON L7N 3M6 \ne-Certificate of Completion Provided \n  \nREGISTER HERE
URL:https://centreforskills.ca/workshops-and-event/project-management-fundamentals-2/
LOCATION:Burlington\, 3350 South Service Road\, Burlington\, Ontario\, L7N 3M6\, Canada
END:VEVENT
BEGIN:VEVENT
DTSTART;TZID=America/Toronto:20251204T140000
DTEND;TZID=America/Toronto:20251204T150000
DTSTAMP:20260421T114130
CREATED:20251201T125807Z
LAST-MODIFIED:20251201T125807Z
UID:5280-1764856800-1764860400@centreforskills.ca
SUMMARY:How to Succeed in the Workplace
DESCRIPTION:Learn the best strategies on how to succeed in the workplace. You will learn about important Workplace legislations\, how to manage relationship with your manager\, and how to manage your career and ongoing employment. \n  \nWe will be using Zoom to deliver this workshop. \n  \nREGISTER HERE  \n 
URL:https://centreforskills.ca/workshops-and-event/how-to-succeed-in-the-workplace/
END:VEVENT
BEGIN:VEVENT
DTSTART;TZID=America/Toronto:20251208T100000
DTEND;TZID=America/Toronto:20251208T110000
DTSTAMP:20260421T114130
CREATED:20251201T130028Z
LAST-MODIFIED:20251201T130028Z
UID:5282-1765188000-1765191600@centreforskills.ca
SUMMARY:Motivation
DESCRIPTION:Motivated people accomplish far more in life and achieve success faster. Discover tips on becoming motivated in your job search and staying that way! \n  \nWe will be using Zoom to deliver this workshop. \n  \nREGISTER HERE \n 
URL:https://centreforskills.ca/workshops-and-event/motivation/
END:VEVENT
BEGIN:VEVENT
DTSTART;TZID=America/Toronto:20251215T140000
DTEND;TZID=America/Toronto:20251215T150000
DTSTAMP:20260421T114130
CREATED:20251201T130338Z
LAST-MODIFIED:20251201T130338Z
UID:5285-1765807200-1765810800@centreforskills.ca
SUMMARY:Beat the Application Tracking System
DESCRIPTION:Learn how to create a winning online job application! This workshop will teach you: how ATS works\, how to read a job posting and identify key words\, and how you can increase your chance of getting an interview by creating a customized online application. \n  \nWe will be using Zoom to deliver this workshop. \n  \nREGISTER HERE \n 
URL:https://centreforskills.ca/workshops-and-event/beat-the-application-tracking-system/
END:VEVENT
BEGIN:VEVENT
DTSTART;TZID=America/Toronto:20251217T100000
DTEND;TZID=America/Toronto:20251217T110000
DTSTAMP:20260421T114130
CREATED:20251201T131023Z
LAST-MODIFIED:20251201T131023Z
UID:5288-1765965600-1765969200@centreforskills.ca
SUMMARY:Canadian Workplace Culture Do's and Don'ts
DESCRIPTION:This workshop introduces clients to key expectations of Canadian workplace culture\, including professional communication\, teamwork\, punctuality\, and respectful behaviour. Participants will learn important dos and don’ts to help them adapt successfully and feel confident in Canadian work environments. \n  \nWe will be using Zoom to deliver this workshop. \n  \nREGISTER HERE
URL:https://centreforskills.ca/workshops-and-event/canadian-workplace-culture-dos-and-donts/
END:VEVENT
BEGIN:VEVENT
DTSTART;TZID=America/Toronto:20251218T110000
DTEND;TZID=America/Toronto:20251218T120000
DTSTAMP:20260421T114130
CREATED:20251201T131308Z
LAST-MODIFIED:20251201T131308Z
UID:5290-1766055600-1766059200@centreforskills.ca
SUMMARY:Boosting Your Confidence
DESCRIPTION:This workshop helps clients strengthen their self-confidence by exploring practical strategies to overcome self-doubt\, build a positive mindset\, and feel more empowered during their job search and daily life. \n  \nWe will be using Zoom to deliver this workshop. \n  \nREGISTER HERE
URL:https://centreforskills.ca/workshops-and-event/boosting-your-confidence/
END:VEVENT
BEGIN:VEVENT
DTSTART;TZID=America/Toronto:20251222T110000
DTEND;TZID=America/Toronto:20251222T120000
DTSTAMP:20260421T114130
CREATED:20251201T131555Z
LAST-MODIFIED:20251201T131555Z
UID:5292-1766401200-1766404800@centreforskills.ca
SUMMARY:Identify Transferable Skills
DESCRIPTION:Being out of the workforce or looking for a new position can be intimidating. This webinar will help you to understand the transferable skills you already have that employer’s look for. Learn what the different types of skills are\, how to identify and describe them on resumes and in interviews. \n  \nWe will be using Zoom to deliver this workshop. \n  \nREGISTER HERE
URL:https://centreforskills.ca/workshops-and-event/identify-transferable-skills/
END:VEVENT
BEGIN:VEVENT
DTSTART;TZID=America/Toronto:20260107T140000
DTEND;TZID=America/Toronto:20260107T150000
DTSTAMP:20260421T114130
CREATED:20251216T145001Z
LAST-MODIFIED:20251216T145001Z
UID:5407-1767794400-1767798000@centreforskills.ca
SUMMARY:How to Succeed in Job Fairs
DESCRIPTION:Job fairs are an excellent opportunity to network with people and with employers who are hiring—this can also cause job seekers to feel nervous if they haven’t participated in a job fair in a while. So come out to prepare\, by learning how to put your best foot forward at jobs fairs and other hiring events. \n  \nWe will be using Zoom to deliver this workshop. \n  \nREGISTER HERE \n 
URL:https://centreforskills.ca/workshops-and-event/how-to-succeed-in-job-fairs/
END:VEVENT
BEGIN:VEVENT
DTSTART;TZID=America/Toronto:20260108T100000
DTEND;TZID=America/Toronto:20260108T110000
DTSTAMP:20260421T114130
CREATED:20251216T145224Z
LAST-MODIFIED:20251216T145224Z
UID:5409-1767866400-1767870000@centreforskills.ca
SUMMARY:Motivation
DESCRIPTION:Motivated people accomplish far more in life and achieve success faster. Discover tips on becoming motivated in your job search and staying that way! \n  \nWe will be using Zoom to deliver this workshop. \n  \nREGISTER HERE
URL:https://centreforskills.ca/workshops-and-event/motivation-2/
END:VEVENT
BEGIN:VEVENT
DTSTART;TZID=America/Toronto:20260109T100000
DTEND;TZID=America/Toronto:20260109T110000
DTSTAMP:20260421T114130
CREATED:20251216T145410Z
LAST-MODIFIED:20251216T145410Z
UID:5411-1767952800-1767956400@centreforskills.ca
SUMMARY:Better Jobs Ontario
DESCRIPTION:This information session provides clients with an overview of the Better Jobs Ontario program and how it can support career training and employment goals. Participants will learn about eligibility criteria\, application requirements\, available funding\, and the types of training programs covered. The session helps clients understand their options and determine if Better Jobs Ontario is the right pathway for achieving long-term employment and career success. \n  \nWe will be using Zoom to deliver this information session. \n  \nREGISTER HERE
URL:https://centreforskills.ca/workshops-and-event/better-jobs-ontario/
END:VEVENT
BEGIN:VEVENT
DTSTART;TZID=America/Toronto:20260112T100000
DTEND;TZID=America/Toronto:20260112T110000
DTSTAMP:20260421T114130
CREATED:20251216T145606Z
LAST-MODIFIED:20251216T145606Z
UID:5413-1768212000-1768215600@centreforskills.ca
SUMMARY:Artificial Intelligence Basics
DESCRIPTION:What is AI and Why it Matters; The 2 types of searches (Google vs AI); Practical Applications; \nAI Safety; Misunderstandings and Limitations. \n  \nWe will be using Zoom to deliver this workshop. \n  \nREGISTER HERE
URL:https://centreforskills.ca/workshops-and-event/artificial-intelligence-basics/
END:VEVENT
BEGIN:VEVENT
DTSTART;TZID=America/Toronto:20260113T140000
DTEND;TZID=America/Toronto:20260113T150000
DTSTAMP:20260421T114130
CREATED:20251216T145855Z
LAST-MODIFIED:20251216T145855Z
UID:5415-1768312800-1768316400@centreforskills.ca
SUMMARY:Hidden Job Market
DESCRIPTION:Experts say that only 20% of the jobs are advertised but there are strategies to access the rest. Learn how to create a job seeker summary\, network effectively and start a proactive job search.\nThis is a 3-part workshop and clients are expected to attend all 3.\nAn interactive workshop: Participation is encouraged but not forced.\nAll activities will be the whole group or individual with the choice to share. \n  \nWe will be using  Zoom to deliver this workshop. \n  \nREGISTER HERE
URL:https://centreforskills.ca/workshops-and-event/hidden-job-market/
END:VEVENT
BEGIN:VEVENT
DTSTART;TZID=America/Toronto:20260114T140000
DTEND;TZID=America/Toronto:20260114T150000
DTSTAMP:20260421T114130
CREATED:20251216T150049Z
LAST-MODIFIED:20251216T150049Z
UID:5417-1768399200-1768402800@centreforskills.ca
SUMMARY:Interviews that Impress
DESCRIPTION:Do you find interviews challenging? Learn how to answer questions\, make a great impression\, and have an effective interview experience. \n  \nWe will be using Zoom to deliver this workshop. \n  \nREGISTER HERE
URL:https://centreforskills.ca/workshops-and-event/interviews-that-impress-2/
END:VEVENT
BEGIN:VEVENT
DTSTART;TZID=America/Toronto:20260115T100000
DTEND;TZID=America/Toronto:20260115T110000
DTSTAMP:20260421T114130
CREATED:20251216T150610Z
LAST-MODIFIED:20251216T150610Z
UID:5419-1768471200-1768474800@centreforskills.ca
SUMMARY:Technological Safety Basics
DESCRIPTION:Introduction and Threat Definition; Password Management; Post Hacking (what to do if you are hacked); Multi-Factor Identification; Using AI to help identify risks; non-email scams. \n  \nWe will be using Zoom to deliver this workshop. \n  \nREGISTER HERE
URL:https://centreforskills.ca/workshops-and-event/technological-safety-basics/
END:VEVENT
BEGIN:VEVENT
DTSTART;TZID=America/Toronto:20260115T120000
DTEND;TZID=America/Toronto:20260115T130000
DTSTAMP:20260421T114130
CREATED:20251222T140601Z
LAST-MODIFIED:20251222T140601Z
UID:5481-1768478400-1768482000@centreforskills.ca
SUMMARY:Skilled Trades Pathways for Newcomers
DESCRIPTION:This free information session introduces three programs available to newcomers at \nCentre for Skills Development. This workshop will introduce TradesLink Ontario\, Workplace Language Training – Skilled Trades Exploration\, and Machining for Newcomers Bridging Program. Learn how these programs support internationally trained and newcomer participants with credential recognition\, workplace language and job search skills\, hands-on technical exposure\, and pathways to apprenticeship and employment in Ontario’s skilled trades. \n  \nWe will be using Zoom to deliver this workshop. \n  \nREGISTER HERE
URL:https://centreforskills.ca/workshops-and-event/skilled-trades-pathways-for-newcomers/
END:VEVENT
BEGIN:VEVENT
DTSTART;TZID=America/Toronto:20260119T100000
DTEND;TZID=America/Toronto:20260119T110000
DTSTAMP:20260421T114130
CREATED:20251216T150756Z
LAST-MODIFIED:20251216T150756Z
UID:5421-1768816800-1768820400@centreforskills.ca
SUMMARY:Optimizing Your LinkedIn Profile
DESCRIPTION:This workshop helps participants build a polished and professional LinkedIn profile that increases visibility to employers and recruiters. Clients will learn how to highlight their skills and experience\, create engaging headlines and summaries\, use industry keywords\, and present their accomplishments effectively. By the end of the session\, participants will have a stronger online presence that supports networking\, job searching\, and career advancement. \n  \nWe will be using Zoom to deliver this workshop. \n  \nREGISTER HERE
URL:https://centreforskills.ca/workshops-and-event/optimizing-your-linkedin-profile/
END:VEVENT
BEGIN:VEVENT
DTSTART;TZID=America/Toronto:20260120T100000
DTEND;TZID=America/Toronto:20260120T110000
DTSTAMP:20260421T114130
CREATED:20251216T150934Z
LAST-MODIFIED:20251216T150934Z
UID:5423-1768903200-1768906800@centreforskills.ca
SUMMARY:Boosting Your Confidence
DESCRIPTION:This workshop helps clients strengthen their self-confidence by exploring practical strategies to overcome self-doubt\, build a positive mindset\, and feel more empowered during their job search and daily life. \n  \nWe will be using Zoom to deliver this workshop. \n  \nREGISTER HERE
URL:https://centreforskills.ca/workshops-and-event/boosting-your-confidence-2/
END:VEVENT
BEGIN:VEVENT
DTSTART;TZID=America/Toronto:20260122T100000
DTEND;TZID=America/Toronto:20260122T110000
DTSTAMP:20260421T114130
CREATED:20251216T151124Z
LAST-MODIFIED:20251216T152748Z
UID:5425-1769076000-1769079600@centreforskills.ca
SUMMARY:Canadian Workplace Do's and Don'ts
DESCRIPTION:Geared towards newcomers to Canada\, this workshop will look at the culture of the Canadian workplace-what experiences and practices you may encounter in a typical workplace and how to successfully navigate them. \n  \nWe will be using Zoom to deliver this workshop. \n  \nREGISTER HERE
URL:https://centreforskills.ca/workshops-and-event/canadian-workplace-dos-and-donts/
END:VEVENT
BEGIN:VEVENT
DTSTART;TZID=America/Toronto:20260127T140000
DTEND;TZID=America/Toronto:20260127T150000
DTSTAMP:20260421T114130
CREATED:20251216T151306Z
LAST-MODIFIED:20251216T151306Z
UID:5427-1769522400-1769526000@centreforskills.ca
SUMMARY:Job Retention
DESCRIPTION:Learn more about what employers want and the keys to keeping a job long term. \n  \nWe will be using Zoom to deliver this workshop. \n  \nREGISTER HERE
URL:https://centreforskills.ca/workshops-and-event/job-retention/
END:VEVENT
BEGIN:VEVENT
DTSTART;TZID=America/Toronto:20260128T110000
DTEND;TZID=America/Toronto:20260128T120000
DTSTAMP:20260421T114130
CREATED:20251216T151457Z
LAST-MODIFIED:20251216T151457Z
UID:5429-1769598000-1769601600@centreforskills.ca
SUMMARY:Crafting Impactful Resumes
DESCRIPTION:Guides participants in developing clear\, targeted\, and results-focused resumes that effectively \nhighlight their skills and experience. Participants will learn how to tailor resumes to specific roles\, \nuse strong accomplishment statements\, and present themselves confidently to employers. \n  \nWe will be using Zoom to deliver this workshop. \n  \nREGISTER HERE
URL:https://centreforskills.ca/workshops-and-event/crafting-impactful-resumes/
END:VEVENT
END:VCALENDAR