BEGIN:VCALENDAR
VERSION:2.0
PRODID:-//Centre for Skills - ECPv6.15.15//NONSGML v1.0//EN
CALSCALE:GREGORIAN
METHOD:PUBLISH
X-WR-CALNAME:Centre for Skills
X-ORIGINAL-URL:https://centreforskills.ca
X-WR-CALDESC:Events for Centre for Skills
REFRESH-INTERVAL;VALUE=DURATION:PT1H
X-Robots-Tag:noindex
X-PUBLISHED-TTL:PT1H
BEGIN:VTIMEZONE
TZID:America/Toronto
BEGIN:DAYLIGHT
TZOFFSETFROM:-0500
TZOFFSETTO:-0400
TZNAME:EDT
DTSTART:20250309T070000
END:DAYLIGHT
BEGIN:STANDARD
TZOFFSETFROM:-0400
TZOFFSETTO:-0500
TZNAME:EST
DTSTART:20251102T060000
END:STANDARD
BEGIN:DAYLIGHT
TZOFFSETFROM:-0500
TZOFFSETTO:-0400
TZNAME:EDT
DTSTART:20260308T070000
END:DAYLIGHT
BEGIN:STANDARD
TZOFFSETFROM:-0400
TZOFFSETTO:-0500
TZNAME:EST
DTSTART:20261101T060000
END:STANDARD
BEGIN:DAYLIGHT
TZOFFSETFROM:-0500
TZOFFSETTO:-0400
TZNAME:EDT
DTSTART:20270314T070000
END:DAYLIGHT
BEGIN:STANDARD
TZOFFSETFROM:-0400
TZOFFSETTO:-0500
TZNAME:EST
DTSTART:20271107T060000
END:STANDARD
END:VTIMEZONE
BEGIN:VEVENT
DTSTART;TZID=America/Toronto:20260504T110000
DTEND;TZID=America/Toronto:20260504T120000
DTSTAMP:20260420T205212
CREATED:20260413T155347Z
LAST-MODIFIED:20260413T155347Z
UID:6391-1777892400-1777896000@centreforskills.ca
SUMMARY:Motivation
DESCRIPTION:Motivated people accomplish far more in life and achieve success faster. Discover tips on becoming motivated in your job search and staying that way! \n  \nWe will be using Zoom to deliver this workshop. \n  \nREGISTER HERE
URL:https://centreforskills.ca/workshops-and-event/motivation-4/
END:VEVENT
BEGIN:VEVENT
DTSTART;TZID=America/Toronto:20260505T140000
DTEND;TZID=America/Toronto:20260505T150000
DTSTAMP:20260420T205212
CREATED:20260413T155719Z
LAST-MODIFIED:20260413T155719Z
UID:6393-1777989600-1777993200@centreforskills.ca
SUMMARY:Boosting Your Confidence
DESCRIPTION:This workshop helps clients strengthen their self-confidence by exploring practical strategies to overcome self-doubt\, build a positive mindset\, and feel more empowered during their job search and daily life. \n  \nWe will be using Zoom to deliver this workshop. \n  \nREGISTER HERE
URL:https://centreforskills.ca/workshops-and-event/boosting-your-confidence-6/
END:VEVENT
BEGIN:VEVENT
DTSTART;TZID=America/Toronto:20260507T140000
DTEND;TZID=America/Toronto:20260507T150000
DTSTAMP:20260420T205212
CREATED:20260413T160348Z
LAST-MODIFIED:20260413T160348Z
UID:6395-1778162400-1778166000@centreforskills.ca
SUMMARY:Job Retention
DESCRIPTION:Learn more about what employers want and the keys to keeping a job long term. \n  \nWe will be using Zoom to deliver this workshop. \n  \nREGISTER HERE
URL:https://centreforskills.ca/workshops-and-event/job-retention-5/
END:VEVENT
BEGIN:VEVENT
DTSTART;TZID=America/Toronto:20260508T100000
DTEND;TZID=America/Toronto:20260508T110000
DTSTAMP:20260420T205212
CREATED:20260413T160700Z
LAST-MODIFIED:20260413T160700Z
UID:6397-1778234400-1778238000@centreforskills.ca
SUMMARY:Crafting Impactful Resumes
DESCRIPTION:Guides participants in developing clear\, targeted\, and results-focused resumes that effectively highlight their skills and experience. Participants will learn how to tailor resumes to specific roles\, \nuse strong accomplishment statements\, and present themselves confidently to employers. \n  \nWe will be using Zoom to deliver this workshop. \n  \nREGISTER HERE
URL:https://centreforskills.ca/workshops-and-event/crafting-impactful-resumes-5/
END:VEVENT
BEGIN:VEVENT
DTSTART;TZID=America/Toronto:20260512T100000
DTEND;TZID=America/Toronto:20260512T110000
DTSTAMP:20260420T205212
CREATED:20260413T161411Z
LAST-MODIFIED:20260413T161411Z
UID:6401-1778580000-1778583600@centreforskills.ca
SUMMARY:Canadian Workplace Culture
DESCRIPTION:Geared towards newcomers to Canada\, this workshop will look at the culture of the Canadian workplace-what experiences and practices you may encounter in a typical workplace and how to successfully navigate them. \n  \nWe will be using Zoom to deliver this workshop. \n  \nREGISTER HERE
URL:https://centreforskills.ca/workshops-and-event/canadian-workplace-culture/
END:VEVENT
BEGIN:VEVENT
DTSTART;TZID=America/Toronto:20260512T140000
DTEND;TZID=America/Toronto:20260512T150000
DTSTAMP:20260420T205212
CREATED:20260413T161759Z
LAST-MODIFIED:20260413T161800Z
UID:6403-1778594400-1778598000@centreforskills.ca
SUMMARY:Introduction to Job Boards
DESCRIPTION:This workshop introduces participants to popular online job boards and how to use them effectively in their job search. Participants will learn how to search for jobs\, apply filters\, set up job alerts\, and identify legitimate postings. The session will also highlight how job boards can be used as part of a broader job search strategy. \n  \nWe will be using Zoom to deliver this workshop. \n  \nREGISTER HERE
URL:https://centreforskills.ca/workshops-and-event/introduction-to-job-boards-2/
END:VEVENT
BEGIN:VEVENT
DTSTART;TZID=America/Toronto:20260513T110000
DTEND;TZID=America/Toronto:20260513T120000
DTSTAMP:20260420T205212
CREATED:20260413T162057Z
LAST-MODIFIED:20260413T162057Z
UID:6405-1778670000-1778673600@centreforskills.ca
SUMMARY:Excel Advanced
DESCRIPTION:Advanced capabilities of Excel. Learn how to use conditional formatting\, data validation\, what-if analysis and advanced functions. For people who already have a strong knowledge of Excel. \n  \nWe will be using Zoom to deliver this workshop. \n  \nREGISTER HERE
URL:https://centreforskills.ca/workshops-and-event/excel-advanced/
END:VEVENT
BEGIN:VEVENT
DTSTART;TZID=America/Toronto:20260513T140000
DTEND;TZID=America/Toronto:20260513T150000
DTSTAMP:20260420T205212
CREATED:20260413T165331Z
LAST-MODIFIED:20260413T165331Z
UID:6407-1778680800-1778684400@centreforskills.ca
SUMMARY:Interviews That Impress
DESCRIPTION:Advanced interview strategies to confidently handle different interview formats. \n  \nWe will be using Zoom to deliver this workshop. \n  \nREGISTER HERE
URL:https://centreforskills.ca/workshops-and-event/interviews-that-impress-6/
END:VEVENT
BEGIN:VEVENT
DTSTART;TZID=America/Toronto:20260514T110000
DTEND;TZID=America/Toronto:20260514T120000
DTSTAMP:20260420T205212
CREATED:20260413T163019Z
LAST-MODIFIED:20260413T163019Z
UID:6409-1778756400-1778760000@centreforskills.ca
SUMMARY:Word Intermediate
DESCRIPTION:Deeper demonstration of Word. Learn how to create and insert pictures / tables\, add comments and \ntrack changes. For people who have already used some basic Word but want to increase their \nunderstanding. \n  \nWe will be using Zoom to deliver this workshop. \n  \nREGISTER HERE
URL:https://centreforskills.ca/workshops-and-event/word-intermediate/
END:VEVENT
BEGIN:VEVENT
DTSTART;TZID=America/Toronto:20260515T100000
DTEND;TZID=America/Toronto:20260515T110000
DTSTAMP:20260420T205212
CREATED:20260413T163351Z
LAST-MODIFIED:20260413T163351Z
UID:6411-1778839200-1778842800@centreforskills.ca
SUMMARY:Identifying Your Transferable Skills
DESCRIPTION:Being out of the workforce or looking for a new position can be intimidating. This webinar will help you to understand the transferable skills you already have that employer’s look for. Learn what the different types of skills are\, how to identify and describe them on resumes and in interviews. \n  \nWe will be using Zoom to deliver this workshop. \n  \nREGISTER HERE
URL:https://centreforskills.ca/workshops-and-event/identifying-your-transferable-skills/
END:VEVENT
BEGIN:VEVENT
DTSTART;TZID=America/Toronto:20260521T140000
DTEND;TZID=America/Toronto:20260521T150000
DTSTAMP:20260420T205212
CREATED:20260413T163740Z
LAST-MODIFIED:20260413T163740Z
UID:6413-1779372000-1779375600@centreforskills.ca
SUMMARY:How to Succeed at Job Fairs
DESCRIPTION:Job fairs are an excellent opportunity to network with people and with employers who are hiring—this can also cause job seekers to feel nervous if they haven’t participated in a job fair in a while. So come out to prepare\, by learning how to put your best foot forward at jobs fairs and other hiring events. \n  \nWe will be using Zoom to deliver this workshop. \n  \nREGISTER HERE
URL:https://centreforskills.ca/workshops-and-event/how-to-succeed-at-job-fairs/
END:VEVENT
BEGIN:VEVENT
DTSTART;TZID=America/Toronto:20260522T100000
DTEND;TZID=America/Toronto:20260522T110000
DTSTAMP:20260420T205212
CREATED:20260413T164527Z
LAST-MODIFIED:20260413T164527Z
UID:6415-1779444000-1779447600@centreforskills.ca
SUMMARY:Resume Essentials
DESCRIPTION:Learn what to do and what not to do\, when writing your resume for today’s job market. Learn how to make your resume stand out with “accomplishment statements” that meet employers’ needs. \n  \nWe will be using Zoom to deliver this workshop. \n  \nREGISTER HERE
URL:https://centreforskills.ca/workshops-and-event/resume-essentials-6/
END:VEVENT
END:VCALENDAR